BEGIN:VCALENDAR
VERSION:2.0
PRODID:-//Tukios.com/
BEGIN:VEVENT
UID:0373b4e4-44bb-4ff3-a8eb-b8d21777fa1c@www.clevelandfuneralhome.net
DTSTAMP:20260423T214827Z
DTSTART:20260425T170000Z
DTEND:20260425T190000Z
SUMMARY:Visitation
DESCRIPTION:
URL:https://www.clevelandfuneralhome.net/obituaries/christopher-yarborough
LOCATION:Cleveland Funeral Home 3463 West Highway 8  Cleveland MS 38732
GEO:33.7508896;-90.752915
END:VEVENT
END:VCALENDAR