BEGIN:VCALENDAR
VERSION:2.0
PRODID:-//Tukios.com/
BEGIN:VEVENT
UID:014482f4-74c9-4f98-b8c1-cccc9375fab9@www.clevelandfuneralhome.net
DTSTAMP:20260423T213807Z
DTSTART:20260425T190000Z
DTEND:20260425T200000Z
SUMMARY:Funeral Service
DESCRIPTION:
URL:https://www.clevelandfuneralhome.net/obituaries/christopher-yarborough
LOCATION:Cleveland Funeral Home Chapel 3463 Mississippi 8  Cleveland MS 
	38732
GEO:33.7508896;-90.752915
END:VEVENT
END:VCALENDAR