BEGIN:VCALENDAR
VERSION:2.0
PRODID:-//Tukios.com/
BEGIN:VEVENT
UID:2cf33f73-9f61-4495-a226-6a533d893bab@www.clevelandfuneralhome.net
DTSTAMP:20260423T213808Z
DTSTART:20260425
SUMMARY:Burial
DESCRIPTION:
URL:https://www.clevelandfuneralhome.net/obituaries/christopher-yarborough
LOCATION:  MS-8  Cleveland MS 
GEO:33.7477212;-90.7248566
END:VEVENT
END:VCALENDAR